BEGIN:VCALENDAR
VERSION:2.0
PRODID:-//Veterans Florida - ECPv6.15.20//NONSGML v1.0//EN
CALSCALE:GREGORIAN
METHOD:PUBLISH
X-WR-CALNAME:Veterans Florida
X-ORIGINAL-URL:https://veteransflorida.org
X-WR-CALDESC:Events for Veterans Florida
REFRESH-INTERVAL;VALUE=DURATION:PT1H
X-Robots-Tag:noindex
X-PUBLISHED-TTL:PT1H
BEGIN:VTIMEZONE
TZID:America/New_York
BEGIN:DAYLIGHT
TZOFFSETFROM:-0500
TZOFFSETTO:-0400
TZNAME:EDT
DTSTART:20250309T070000
END:DAYLIGHT
BEGIN:STANDARD
TZOFFSETFROM:-0400
TZOFFSETTO:-0500
TZNAME:EST
DTSTART:20251102T060000
END:STANDARD
BEGIN:DAYLIGHT
TZOFFSETFROM:-0500
TZOFFSETTO:-0400
TZNAME:EDT
DTSTART:20260308T070000
END:DAYLIGHT
BEGIN:STANDARD
TZOFFSETFROM:-0400
TZOFFSETTO:-0500
TZNAME:EST
DTSTART:20261101T060000
END:STANDARD
BEGIN:DAYLIGHT
TZOFFSETFROM:-0500
TZOFFSETTO:-0400
TZNAME:EDT
DTSTART:20270314T070000
END:DAYLIGHT
BEGIN:STANDARD
TZOFFSETFROM:-0400
TZOFFSETTO:-0500
TZNAME:EST
DTSTART:20271107T060000
END:STANDARD
END:VTIMEZONE
BEGIN:VEVENT
DTSTART;TZID=America/New_York:20260416T083000
DTEND;TZID=America/New_York:20260521T110000
DTSTAMP:20260422T045443
CREATED:20260121T201128Z
LAST-MODIFIED:20260317T185502Z
UID:65717-1776328200-1779361200@veteransflorida.org
SUMMARY:Growth Cohort - Nova Southeastern University/Alan B. Levan
DESCRIPTION:Applications are now open for our next Veterans Facilitated Growth Program. \nThis 6-week program\, which starts on Thursday\, April 16th\, is designed to support veterans and military-connected entrepreneurs with the tools\, mentorship\, and resources needed to grow and scale their businesses. Participants will gain practical guidance on key topics like business strategy\, marketing\, financial planning\, and navigating local resources. This is for businesses that are generating revenue. \nIf you’re a veteran building a startup or growing a small business\, this is an opportunity to connect with experienced mentors and a strong entrepreneurial community. \nWe look forward to assisting you with your Founder’s Journey! \n* Application deadline: April 3rd
URL:https://veteransflorida.org/event/growth-cohort-nova-southeastern-university-alan-b-levan/
LOCATION:Nova Southeastern University | Alan B. Levan Center\, 3100 Ray Ferrero Blvd\, 5th floor\, Davie\, FL\, 33314\, United States
CATEGORIES:Entrepreneur
END:VEVENT
END:VCALENDAR